Package: HelloRangesData Version: 1.35.0 Command: /home/biocbuild/bbs-3.22-bioc/R/bin/R CMD check --install=check:HelloRangesData.install-out.txt --library=/home/biocbuild/bbs-3.22-bioc/R/site-library --timings HelloRangesData_1.35.0.tar.gz StartedAt: 2025-07-10 12:28:07 -0400 (Thu, 10 Jul 2025) EndedAt: 2025-07-10 12:28:26 -0400 (Thu, 10 Jul 2025) EllapsedTime: 19.0 seconds RetCode: 0 Status: OK CheckDir: HelloRangesData.Rcheck Warnings: 0