Package: HiBED Version: 1.7.0 Command: /home/biocbuild/bbs-3.22-bioc/R/bin/R CMD INSTALL HiBED StartedAt: 2025-07-08 11:03:35 -0400 (Tue, 08 Jul 2025) EndedAt: 2025-07-08 11:04:17 -0400 (Tue, 08 Jul 2025) EllapsedTime: 42.2 seconds RetCode: 0 Status: OK