Package: HiCDataHumanIMR90 Version: 1.31.0 Command: /home/biocbuild/bbs-3.23-bioc/R/bin/R CMD INSTALL HiCDataHumanIMR90 StartedAt: 2025-11-04 10:55:51 -0500 (Tue, 04 Nov 2025) EndedAt: 2025-11-04 10:55:53 -0500 (Tue, 04 Nov 2025) EllapsedTime: 1.5 seconds RetCode: 0 Status: OK