Package: HiCDataLymphoblast Version: 1.47.0 Command: /home/biocbuild/bbs-3.23-bioc/R/bin/R CMD build --keep-empty-dirs --no-resave-data HiCDataLymphoblast StartedAt: 2025-11-11 11:23:41 -0500 (Tue, 11 Nov 2025) EndedAt: 2025-11-11 11:24:14 -0500 (Tue, 11 Nov 2025) EllapsedTime: 32.6 seconds RetCode: 0 Status: OK PackageFile: HiCDataLymphoblast_1.47.0.tar.gz PackageFileSize: 16.52 MiB