Package: HiCDataLymphoblast Version: 1.45.0 Command: /home/biocbuild/bbs-3.22-bioc/R/bin/R CMD build --keep-empty-dirs --no-resave-data HiCDataLymphoblast StartedAt: 2025-07-10 11:24:20 -0400 (Thu, 10 Jul 2025) EndedAt: 2025-07-10 11:24:51 -0400 (Thu, 10 Jul 2025) EllapsedTime: 31.5 seconds RetCode: 0 Status: OK PackageFile: HiCDataLymphoblast_1.45.0.tar.gz PackageFileSize: 16.52 MiB