Package: HiContactsData Version: 1.13.0 Command: /home/biocbuild/bbs-3.23-bioc/R/bin/R CMD build --keep-empty-dirs --no-resave-data HiContactsData StartedAt: 2025-11-04 11:25:14 -0500 (Tue, 04 Nov 2025) EndedAt: 2025-11-04 11:25:36 -0500 (Tue, 04 Nov 2025) EllapsedTime: 22.3 seconds RetCode: 0 Status: OK PackageFile: HiContactsData_1.13.0.tar.gz PackageFileSize: 221.9 KiB