Package: HiContactsData Version: 1.11.0 Command: /home/biocbuild/bbs-3.22-bioc/R/bin/R CMD build --keep-empty-dirs --no-resave-data HiContactsData StartedAt: 2025-07-08 11:23:28 -0400 (Tue, 08 Jul 2025) EndedAt: 2025-07-08 11:23:51 -0400 (Tue, 08 Jul 2025) EllapsedTime: 22.1 seconds RetCode: 0 Status: OK PackageFile: HiContactsData_1.11.0.tar.gz PackageFileSize: 221.9 KiB