Package: HiContactsData Version: 1.11.0 Command: /home/biocbuild/bbs-3.22-bioc/R/bin/R CMD INSTALL HiContactsData StartedAt: 2025-07-08 10:57:12 -0400 (Tue, 08 Jul 2025) EndedAt: 2025-07-08 10:57:25 -0400 (Tue, 08 Jul 2025) EllapsedTime: 13.0 seconds RetCode: 0 Status: OK