Package: HighlyReplicatedRNASeq Version: 1.23.0 Command: /home/biocbuild/bbs-3.23-bioc/R/bin/R CMD build --keep-empty-dirs --no-resave-data HighlyReplicatedRNASeq StartedAt: 2025-10-30 11:21:49 -0400 (Thu, 30 Oct 2025) EndedAt: 2025-10-30 11:22:48 -0400 (Thu, 30 Oct 2025) EllapsedTime: 58.4 seconds RetCode: 0 Status: OK PackageFile: HighlyReplicatedRNASeq_1.23.0.tar.gz PackageFileSize: 468.5 KiB