Package: HighlyReplicatedRNASeq Version: 1.21.0 Command: /home/biocbuild/bbs-3.22-bioc/R/bin/R CMD build --keep-empty-dirs --no-resave-data HighlyReplicatedRNASeq StartedAt: 2025-07-08 11:23:29 -0400 (Tue, 08 Jul 2025) EndedAt: 2025-07-08 11:24:28 -0400 (Tue, 08 Jul 2025) EllapsedTime: 59.2 seconds RetCode: 0 Status: OK PackageFile: HighlyReplicatedRNASeq_1.21.0.tar.gz PackageFileSize: 468.5 KiB