Package: HighlyReplicatedRNASeq Version: 1.21.0 Command: /home/biocbuild/bbs-3.22-bioc/R/bin/R CMD INSTALL HighlyReplicatedRNASeq StartedAt: 2025-07-08 11:00:05 -0400 (Tue, 08 Jul 2025) EndedAt: 2025-07-08 11:00:30 -0400 (Tue, 08 Jul 2025) EllapsedTime: 24.8 seconds RetCode: 0 Status: OK