Package: Hiiragi2013 Version: 1.47.0 Command: /home/biocbuild/bbs-3.23-bioc/R/bin/R CMD build --keep-empty-dirs --no-resave-data Hiiragi2013 StartedAt: 2025-11-13 11:24:26 -0500 (Thu, 13 Nov 2025) EndedAt: 2025-11-13 11:30:15 -0500 (Thu, 13 Nov 2025) EllapsedTime: 348.7 seconds RetCode: 0 Status: OK PackageFile: Hiiragi2013_1.47.0.tar.gz PackageFileSize: 139.1 MiB