Package: Hiiragi2013 Version: 1.45.3 Command: /home/biocbuild/bbs-3.22-bioc/R/bin/R CMD build --keep-empty-dirs --no-resave-data Hiiragi2013 StartedAt: 2025-07-10 11:24:45 -0400 (Thu, 10 Jul 2025) EndedAt: 2025-07-10 11:30:24 -0400 (Thu, 10 Jul 2025) EllapsedTime: 339.2 seconds RetCode: 0 Status: OK PackageFile: Hiiragi2013_1.45.3.tar.gz PackageFileSize: 139.1 MiB