Package: Hiiragi2013 Version: 1.45.3 Command: /home/biocbuild/bbs-3.22-bioc/R/bin/R CMD INSTALL Hiiragi2013 StartedAt: 2025-07-10 10:57:27 -0400 (Thu, 10 Jul 2025) EndedAt: 2025-07-10 10:57:45 -0400 (Thu, 10 Jul 2025) EllapsedTime: 18.5 seconds RetCode: 0 Status: OK