Package: HumanAffyData Version: 1.37.0 Command: /home/biocbuild/bbs-3.23-bioc/R/bin/R CMD INSTALL HumanAffyData StartedAt: 2025-11-06 10:57:39 -0500 (Thu, 06 Nov 2025) EndedAt: 2025-11-06 10:57:49 -0500 (Thu, 06 Nov 2025) EllapsedTime: 10.5 seconds RetCode: 0 Status: OK