Package: IHWpaper Version: 1.37.0 Command: /home/biocbuild/bbs-3.22-bioc/R/bin/R CMD build --keep-empty-dirs --no-resave-data IHWpaper StartedAt: 2025-07-08 11:24:28 -0400 (Tue, 08 Jul 2025) EndedAt: 2025-07-08 11:27:59 -0400 (Tue, 08 Jul 2025) EllapsedTime: 210.4 seconds RetCode: 0 Status: OK PackageFile: IHWpaper_1.37.0.tar.gz PackageFileSize: 75.62 MiB