Package: IHWpaper Version: 1.37.0 Command: /home/biocbuild/bbs-3.22-bioc/R/bin/R CMD INSTALL IHWpaper StartedAt: 2025-07-08 11:02:33 -0400 (Tue, 08 Jul 2025) EndedAt: 2025-07-08 11:03:08 -0400 (Tue, 08 Jul 2025) EllapsedTime: 35.3 seconds RetCode: 0 Status: OK