Package: Illumina450ProbeVariants.db Version: 1.45.0 Command: /home/biocbuild/bbs-3.22-bioc/R/bin/R CMD INSTALL Illumina450ProbeVariants.db StartedAt: 2025-07-15 10:55:13 -0400 (Tue, 15 Jul 2025) EndedAt: 2025-07-15 10:55:17 -0400 (Tue, 15 Jul 2025) EllapsedTime: 3.9 seconds RetCode: 0 Status: OK