Package: JASPAR2016 Version: 1.39.0 Command: /home/biocbuild/bbs-3.23-bioc/R/bin/R CMD INSTALL JASPAR2016 StartedAt: 2025-11-04 10:56:01 -0500 (Tue, 04 Nov 2025) EndedAt: 2025-11-04 10:56:06 -0500 (Tue, 04 Nov 2025) EllapsedTime: 4.6 seconds RetCode: 0 Status: OK