Package: JASPAR2016 Version: 1.37.0 Command: /home/biocbuild/bbs-3.22-bioc/R/bin/R CMD INSTALL JASPAR2016 StartedAt: 2025-07-08 10:56:01 -0400 (Tue, 08 Jul 2025) EndedAt: 2025-07-08 10:56:06 -0400 (Tue, 08 Jul 2025) EllapsedTime: 4.7 seconds RetCode: 0 Status: OK