Package: JohnsonKinaseData Version: 1.5.0 Command: /home/biocbuild/bbs-3.22-bioc/R/bin/R CMD build --keep-empty-dirs --no-resave-data JohnsonKinaseData StartedAt: 2025-07-10 11:26:32 -0400 (Thu, 10 Jul 2025) EndedAt: 2025-07-10 11:27:22 -0400 (Thu, 10 Jul 2025) EllapsedTime: 50.0 seconds RetCode: 0 Status: OK PackageFile: JohnsonKinaseData_1.5.0.tar.gz PackageFileSize: 315.1 KiB