Package: JohnsonKinaseData Version: 1.5.0 Command: /home/biocbuild/bbs-3.22-bioc/R/bin/R CMD INSTALL JohnsonKinaseData StartedAt: 2025-07-10 10:57:00 -0400 (Thu, 10 Jul 2025) EndedAt: 2025-07-10 10:57:15 -0400 (Thu, 10 Jul 2025) EllapsedTime: 14.9 seconds RetCode: 0 Status: OK