Package: KEGGandMetacoreDzPathwaysGEO Version: 1.29.0 Command: /home/biocbuild/bbs-3.22-bioc/R/bin/R CMD build --keep-empty-dirs --no-resave-data KEGGandMetacoreDzPathwaysGEO StartedAt: 2025-07-10 11:26:32 -0400 (Thu, 10 Jul 2025) EndedAt: 2025-07-10 11:26:43 -0400 (Thu, 10 Jul 2025) EllapsedTime: 11.0 seconds RetCode: 0 Status: OK PackageFile: KEGGandMetacoreDzPathwaysGEO_1.29.0.tar.gz PackageFileSize: 98.67 MiB