Package: KEGGandMetacoreDzPathwaysGEO Version: 1.29.0 Command: /home/biocbuild/bbs-3.22-bioc/R/bin/R CMD INSTALL KEGGandMetacoreDzPathwaysGEO StartedAt: 2025-07-10 10:56:15 -0400 (Thu, 10 Jul 2025) EndedAt: 2025-07-10 10:56:17 -0400 (Thu, 10 Jul 2025) EllapsedTime: 2.0 seconds RetCode: 0 Status: OK