Package: KEGGdzPathwaysGEO Version: 1.49.0 Command: /home/biocbuild/bbs-3.23-bioc/R/bin/R CMD INSTALL KEGGdzPathwaysGEO StartedAt: 2025-11-20 10:56:06 -0500 (Thu, 20 Nov 2025) EndedAt: 2025-11-20 10:56:12 -0500 (Thu, 20 Nov 2025) EllapsedTime: 6.1 seconds RetCode: 0 Status: OK