Package: KOdata Version: 1.35.0 Command: /home/biocbuild/bbs-3.22-bioc/R/bin/R CMD INSTALL KOdata StartedAt: 2025-07-10 10:55:20 -0400 (Thu, 10 Jul 2025) EndedAt: 2025-07-10 10:55:39 -0400 (Thu, 10 Jul 2025) EllapsedTime: 18.9 seconds RetCode: 0 Status: OK