Package: LegATo Version: 1.5.0 Command: /home/biocbuild/bbs-3.23-bioc/R/bin/R CMD build --keep-empty-dirs --no-resave-data LegATo StartedAt: 2025-11-04 11:27:31 -0500 (Tue, 04 Nov 2025) EndedAt: 2025-11-04 11:29:08 -0500 (Tue, 04 Nov 2025) EllapsedTime: 96.7 seconds RetCode: 0 Status: OK PackageFile: LegATo_1.5.0.tar.gz PackageFileSize: 1.235 MiB