Package: LegATo Version: 1.5.0 Command: /home/biocbuild/bbs-3.23-bioc/R/bin/R CMD INSTALL LegATo StartedAt: 2025-11-04 11:04:34 -0500 (Tue, 04 Nov 2025) EndedAt: 2025-11-04 11:04:55 -0500 (Tue, 04 Nov 2025) EllapsedTime: 20.5 seconds RetCode: 0 Status: OK