Package: LegATo Version: 1.3.0 Command: /home/biocbuild/bbs-3.22-bioc/R/bin/R CMD build --keep-empty-dirs --no-resave-data LegATo StartedAt: 2025-07-08 11:26:11 -0400 (Tue, 08 Jul 2025) EndedAt: 2025-07-08 11:27:36 -0400 (Tue, 08 Jul 2025) EllapsedTime: 85.6 seconds RetCode: 0 Status: OK PackageFile: LegATo_1.3.0.tar.gz PackageFileSize: 1.237 MiB