Package: LegATo Version: 1.3.0 Command: /home/biocbuild/bbs-3.22-bioc/R/bin/R CMD INSTALL LegATo StartedAt: 2025-07-08 11:04:17 -0400 (Tue, 08 Jul 2025) EndedAt: 2025-07-08 11:04:38 -0400 (Tue, 08 Jul 2025) EllapsedTime: 20.1 seconds RetCode: 0 Status: OK