Package: LiebermanAidenHiC2009 Version: 0.49.0 Command: /home/biocbuild/bbs-3.23-bioc/R/bin/R CMD build --keep-empty-dirs --no-resave-data LiebermanAidenHiC2009 StartedAt: 2025-11-13 11:27:01 -0500 (Thu, 13 Nov 2025) EndedAt: 2025-11-13 11:28:10 -0500 (Thu, 13 Nov 2025) EllapsedTime: 68.9 seconds RetCode: 0 Status: OK PackageFile: LiebermanAidenHiC2009_0.49.0.tar.gz PackageFileSize: 10.38 MiB