Package: LiebermanAidenHiC2009 Version: 0.47.0 Command: /home/biocbuild/bbs-3.22-bioc/R/bin/R CMD build --keep-empty-dirs --no-resave-data LiebermanAidenHiC2009 StartedAt: 2025-07-10 11:27:17 -0400 (Thu, 10 Jul 2025) EndedAt: 2025-07-10 11:28:27 -0400 (Thu, 10 Jul 2025) EllapsedTime: 69.7 seconds RetCode: 0 Status: OK PackageFile: LiebermanAidenHiC2009_0.47.0.tar.gz PackageFileSize: 10.38 MiB