Package: LiebermanAidenHiC2009 Version: 0.47.0 Command: /home/biocbuild/bbs-3.22-bioc/R/bin/R CMD INSTALL LiebermanAidenHiC2009 StartedAt: 2025-07-10 10:56:31 -0400 (Thu, 10 Jul 2025) EndedAt: 2025-07-10 10:56:36 -0400 (Thu, 10 Jul 2025) EllapsedTime: 5.5 seconds RetCode: 0 Status: OK