Package: LungCancerACvsSCCGEO Version: 1.47.0 Command: /home/biocbuild/bbs-3.23-bioc/R/bin/R CMD build --keep-empty-dirs --no-resave-data LungCancerACvsSCCGEO StartedAt: 2025-11-04 11:28:30 -0500 (Tue, 04 Nov 2025) EndedAt: 2025-11-04 11:32:01 -0500 (Tue, 04 Nov 2025) EllapsedTime: 210.5 seconds RetCode: 0 Status: OK PackageFile: LungCancerACvsSCCGEO_1.47.0.tar.gz PackageFileSize: 138.6 MiB