Package: LungCancerACvsSCCGEO Version: 1.45.0 Command: /home/biocbuild/bbs-3.22-bioc/R/bin/R CMD build --keep-empty-dirs --no-resave-data LungCancerACvsSCCGEO StartedAt: 2025-07-08 11:27:03 -0400 (Tue, 08 Jul 2025) EndedAt: 2025-07-08 11:30:31 -0400 (Tue, 08 Jul 2025) EllapsedTime: 208.0 seconds RetCode: 0 Status: OK PackageFile: LungCancerACvsSCCGEO_1.45.0.tar.gz PackageFileSize: 138.6 MiB