Package: LungCancerLines Version: 0.47.0 Command: /home/biocbuild/bbs-3.22-bioc/R/bin/R CMD build --keep-empty-dirs --no-resave-data LungCancerLines StartedAt: 2025-07-08 11:27:08 -0400 (Tue, 08 Jul 2025) EndedAt: 2025-07-08 11:27:09 -0400 (Tue, 08 Jul 2025) EllapsedTime: 1.0 seconds RetCode: 0 Status: OK PackageFile: LungCancerLines_0.47.0.tar.gz PackageFileSize: 1.608 MiB