Package: M3DExampleData Version: 1.35.0 Command: /home/biocbuild/bbs-3.22-bioc/R/bin/R CMD check --install=check:M3DExampleData.install-out.txt --library=/home/biocbuild/bbs-3.22-bioc/R/site-library --timings M3DExampleData_1.35.0.tar.gz StartedAt: 2025-07-10 12:37:17 -0400 (Thu, 10 Jul 2025) EndedAt: 2025-07-10 12:37:28 -0400 (Thu, 10 Jul 2025) EllapsedTime: 11.0 seconds RetCode: 0 Status: WARNINGS CheckDir: M3DExampleData.Rcheck Warnings: 1