Package: MACSdata Version: 1.17.0 Command: /home/biocbuild/bbs-3.22-bioc/R/bin/R CMD INSTALL MACSdata StartedAt: 2025-07-10 10:55:29 -0400 (Thu, 10 Jul 2025) EndedAt: 2025-07-10 10:55:30 -0400 (Thu, 10 Jul 2025) EllapsedTime: 1.1 seconds RetCode: 0 Status: OK