Package: MAQCsubset Version: 1.47.0 Command: /home/biocbuild/bbs-3.22-bioc/R/bin/R CMD build --keep-empty-dirs --no-resave-data MAQCsubset StartedAt: 2025-07-10 11:28:39 -0400 (Thu, 10 Jul 2025) EndedAt: 2025-07-10 11:30:02 -0400 (Thu, 10 Jul 2025) EllapsedTime: 82.8 seconds RetCode: 0 Status: OK PackageFile: MAQCsubset_1.47.0.tar.gz PackageFileSize: 64.88 MiB