Package: MAQCsubset Version: 1.47.0 Command: /home/biocbuild/bbs-3.22-bioc/R/bin/R CMD INSTALL MAQCsubset StartedAt: 2025-07-10 11:03:22 -0400 (Thu, 10 Jul 2025) EndedAt: 2025-07-10 11:04:21 -0400 (Thu, 10 Jul 2025) EllapsedTime: 58.3 seconds RetCode: 0 Status: OK