Package: MEEBOdata Version: 1.47.0 Command: /home/biocbuild/bbs-3.22-bioc/R/bin/R CMD build --keep-empty-dirs --no-resave-data MEEBOdata StartedAt: 2025-07-10 11:29:20 -0400 (Thu, 10 Jul 2025) EndedAt: 2025-07-10 11:29:24 -0400 (Thu, 10 Jul 2025) EllapsedTime: 4.0 seconds RetCode: 0 Status: OK PackageFile: MEEBOdata_1.47.0.tar.gz PackageFileSize: 6.869 MiB