Package: MOFAdata Version: 1.27.0 Command: /home/biocbuild/bbs-3.23-bioc/R/bin/R CMD build --keep-empty-dirs --no-resave-data MOFAdata StartedAt: 2025-11-06 11:30:56 -0500 (Thu, 06 Nov 2025) EndedAt: 2025-11-06 11:31:35 -0500 (Thu, 06 Nov 2025) EllapsedTime: 39.5 seconds RetCode: 0 Status: OK PackageFile: MOFAdata_1.27.0.tar.gz PackageFileSize: 44.23 MiB