Package: MOFAdata Version: 1.27.0 Command: /home/biocbuild/bbs-3.23-bioc/R/bin/R CMD INSTALL MOFAdata StartedAt: 2025-11-06 10:55:12 -0500 (Thu, 06 Nov 2025) EndedAt: 2025-11-06 10:55:23 -0500 (Thu, 06 Nov 2025) EllapsedTime: 11.4 seconds RetCode: 0 Status: OK