Package: MOFAdata Version: 1.25.0 Command: /home/biocbuild/bbs-3.22-bioc/R/bin/R CMD INSTALL MOFAdata StartedAt: 2025-07-08 10:55:11 -0400 (Tue, 08 Jul 2025) EndedAt: 2025-07-08 10:55:23 -0400 (Tue, 08 Jul 2025) EllapsedTime: 11.9 seconds RetCode: 0 Status: OK