Package: MSMB Version: 1.29.0 Command: /home/biocbuild/bbs-3.23-bioc/R/bin/R CMD build --keep-empty-dirs --no-resave-data MSMB StartedAt: 2025-10-30 11:28:31 -0400 (Thu, 30 Oct 2025) EndedAt: 2025-10-30 11:28:38 -0400 (Thu, 30 Oct 2025) EllapsedTime: 7.6 seconds RetCode: 0 Status: OK PackageFile: MSMB_1.29.0.tar.gz PackageFileSize: 5.05 MiB