Package: MSMB Version: 1.27.0 Command: /home/biocbuild/bbs-3.22-bioc/R/bin/R CMD build --keep-empty-dirs --no-resave-data MSMB StartedAt: 2025-07-08 11:31:04 -0400 (Tue, 08 Jul 2025) EndedAt: 2025-07-08 11:31:11 -0400 (Tue, 08 Jul 2025) EllapsedTime: 7.4 seconds RetCode: 0 Status: OK PackageFile: MSMB_1.27.0.tar.gz PackageFileSize: 5.049 MiB