Package: MSMB Version: 1.27.0 Command: /home/biocbuild/bbs-3.22-bioc/R/bin/R CMD INSTALL MSMB StartedAt: 2025-07-08 10:56:42 -0400 (Tue, 08 Jul 2025) EndedAt: 2025-07-08 10:56:44 -0400 (Tue, 08 Jul 2025) EllapsedTime: 2.4 seconds RetCode: 0 Status: OK