Package: MUGAExampleData Version: 1.31.0 Command: /home/biocbuild/bbs-3.23-bioc/R/bin/R CMD build --keep-empty-dirs --no-resave-data MUGAExampleData StartedAt: 2025-11-04 11:33:18 -0500 (Tue, 04 Nov 2025) EndedAt: 2025-11-04 11:33:30 -0500 (Tue, 04 Nov 2025) EllapsedTime: 11.3 seconds RetCode: 0 Status: OK PackageFile: MUGAExampleData_1.31.0.tar.gz PackageFileSize: 88.65 MiB