Package: MUGAExampleData Version: 1.29.0 Command: /home/biocbuild/bbs-3.22-bioc/R/bin/R CMD build --keep-empty-dirs --no-resave-data MUGAExampleData StartedAt: 2025-07-08 11:31:44 -0400 (Tue, 08 Jul 2025) EndedAt: 2025-07-08 11:31:55 -0400 (Tue, 08 Jul 2025) EllapsedTime: 10.9 seconds RetCode: 0 Status: OK PackageFile: MUGAExampleData_1.29.0.tar.gz PackageFileSize: 88.65 MiB