Package: MerfishData Version: 1.11.0 Command: /home/biocbuild/bbs-3.22-bioc/R/bin/R CMD build --keep-empty-dirs --no-resave-data MerfishData StartedAt: 2025-07-08 11:28:17 -0400 (Tue, 08 Jul 2025) EndedAt: 2025-07-08 11:36:45 -0400 (Tue, 08 Jul 2025) EllapsedTime: 507.9 seconds RetCode: 0 Status: OK PackageFile: MerfishData_1.11.0.tar.gz PackageFileSize: 24.11 MiB